BEGIN:VCALENDAR
VERSION:2.0
PRODID:-//Freundeskreis der Gartensiedlung Gronauer Wald - ECPv6.15.20//NONSGML v1.0//EN
CALSCALE:GREGORIAN
METHOD:PUBLISH
X-ORIGINAL-URL:https://fggw.de
X-WR-CALDESC:Veranstaltungen für Freundeskreis der Gartensiedlung Gronauer Wald
REFRESH-INTERVAL;VALUE=DURATION:PT1H
X-Robots-Tag:noindex
X-PUBLISHED-TTL:PT1H
BEGIN:VTIMEZONE
TZID:Europe/Berlin
BEGIN:DAYLIGHT
TZOFFSETFROM:+0100
TZOFFSETTO:+0200
TZNAME:CEST
DTSTART:20240331T010000
END:DAYLIGHT
BEGIN:STANDARD
TZOFFSETFROM:+0200
TZOFFSETTO:+0100
TZNAME:CET
DTSTART:20241027T010000
END:STANDARD
BEGIN:DAYLIGHT
TZOFFSETFROM:+0100
TZOFFSETTO:+0200
TZNAME:CEST
DTSTART:20250330T010000
END:DAYLIGHT
BEGIN:STANDARD
TZOFFSETFROM:+0200
TZOFFSETTO:+0100
TZNAME:CET
DTSTART:20251026T010000
END:STANDARD
BEGIN:DAYLIGHT
TZOFFSETFROM:+0100
TZOFFSETTO:+0200
TZNAME:CEST
DTSTART:20260329T010000
END:DAYLIGHT
BEGIN:STANDARD
TZOFFSETFROM:+0200
TZOFFSETTO:+0100
TZNAME:CET
DTSTART:20261025T010000
END:STANDARD
END:VTIMEZONE
BEGIN:VEVENT
DTSTART;TZID=Europe/Berlin:20250803T170000
DTEND;TZID=Europe/Berlin:20250803T180000
DTSTAMP:20260423T223223
CREATED:20250727T114318Z
LAST-MODIFIED:20250706T120117Z
UID:4122-1754240400-1754244000@fggw.de
SUMMARY:Platz für Kultur: Lesung für Kinder
DESCRIPTION:Es ist Zeit\, unserem Quartier neues Leben einzuhauchen – nicht nur in gärtnerischer\, sondern auch in kultureller Hinsicht! Mit der Initiative „Platz für Kultur – im Gronauer Wald“ lädt der Freundeskreis herzlich dazu ein\, den Platz an der Eiche gemeinsam zu einem lebendigen Treffpunkt für Kunst\, Musik und Begegnung zu machen. \nIm Rahmen des städtischen Kultursommers haben wir vor Kurzem mit einen Konzert von Mystery Train den Startschuss für unsere Veranstaltungsreihe abgegeben – die nächste Veranstaltung wendet sich im Besonderen an die jüngsten Anwohnerinnen und Anwohner: Paula wird am Sonntag\, den 3. August\, ab 17:00 Uhr eine Lesung für Kinder geben. Auf dem Programm steht eines ihrer Lieblingsbücher\, Frau Honig von Sabine Bohlmann. Die Lektüre ist geeignet für Kinder ab ca. 6 Jahren – die Eltern sind als Begleitung selbstverständlich herzlich mit eingeladen! Damit es richtig nett wird\, werden wir für selbstgemachte Limonade sorgen und ein paar Picknick-Decken mitbringen. Am besten bringt Ihr Euch auch noch selbst eine Picknick-Decke mit – und wenn Ihr vom Zuhören hungrig werdet\, natürlich gerne auch etwas zum Knabbern 😉 \nWir haben bereits weitere Highlights für Euch geplant – demnächst könnt Ihr Euch auf  Yoga unter der Eiche freuen\, auch ein weiteres Konzert steht auf dem Programm! Wenn Ihr selbst einen kulturellen Beitrag leisten wollt oder jemanden kennt\, der unser Programm bereichern könnte\, dann meldet Euch sehr gerne! \nteilen teilen teilen teilen merken teilen E-Mail drucken 
URL:https://fggw.de/event/platz-fuer-kultur-lesung-fuer-kinder/
LOCATION:Platz an der Eiche\, An der Eiche\, Bergisch Gladbach\, NRW\, 51469\, Deutschland
CATEGORIES:Platz für Kultur
ATTACH;FMTTYPE=image/jpeg:https://fggw.de/wp-content/uploads/2025/06/Platz-fuer-Kultur.jpg
ORGANIZER;CN="Freundeskreis der Gartensiedlung Gronauer Wald":MAILTO:info@fggw.de
END:VEVENT
BEGIN:VEVENT
DTSTART;TZID=Europe/Berlin:20250807T193000
DTEND;TZID=Europe/Berlin:20250807T213000
DTSTAMP:20260423T223223
CREATED:20250626T065500Z
LAST-MODIFIED:20250626T065500Z
UID:4065-1754595000-1754602200@fggw.de
SUMMARY:Treffen des Freundeskreises am 7.08.2025
DESCRIPTION:Wegen der Sommerferien wird unser nächstes Treffen erst Anfang August stattfinden. Es wird aber trotzdem wieder wie gewohnt jede Menge Infos und Gelegenheit zum Austausch bieten. Wir laden deshalb alle Nachbarn\, Freunde\, Anwohner und Gartensiedler ein\, regelmäßig an unseren Treffen teilzunehmen! So können Sie in ungezwungener Runde ihre Nachbarn kennenlernen\, Klatsch und Tratsch austauschen\, alte Bekannte wiedersehen\, leckeres Essen genießen und sich über Aktuelles aus unserem Viertel informieren. Wir freuen uns immer\, wenn sich Neue in die Runde wagen – Ihr seid jederzeit herzlich willkommen! \nteilen teilen teilen teilen merken teilen E-Mail drucken 
URL:https://fggw.de/event/treffen-des-freundeskreises-am-7-08-2025/
LOCATION:Restaurant Guru\, Gronauer Waldweg 2\, Bergisch Gladbach\, NRW\, 51465\, Deutschland
CATEGORIES:Treffen des Freundeskreises
ATTACH;FMTTYPE=image/jpeg:https://fggw.de/wp-content/uploads/2025/03/a-photo-of-a-diverse-group-of-people-of-_xpJz7p3uSS6pAnc61kPzcA_jDtacyR4RkqqGSuOsObbPA.jpeg
ORGANIZER;CN="Freundeskreis der Gartensiedlung Gronauer Wald":MAILTO:info@fggw.de
END:VEVENT
BEGIN:VEVENT
DTSTART;TZID=Europe/Berlin:20250809T160000
DTEND;TZID=Europe/Berlin:20250809T170000
DTSTAMP:20260423T223223
CREATED:20250803T111703Z
LAST-MODIFIED:20250804T152335Z
UID:4142-1754755200-1754758800@fggw.de
SUMMARY:Platz für Kultur: Yoga unter der Eiche
DESCRIPTION:Es ist Zeit\, unserem Quartier neues Leben einzuhauchen – nicht nur in gärtnerischer\, sondern auch in kultureller Hinsicht! Mit der Initiative „Platz für Kultur – im Gronauer Wald“ lädt der Freundeskreis herzlich dazu ein\, den Platz an der Eiche gemeinsam zu einem lebendigen Treffpunkt für Kunst\, Musik und Begegnung zu machen. \nIm Rahmen des städtischen Kultursommers haben wir vor Kurzem ein Konzert von Mystery Train und eine Lesung für Kinder organisiert. Unser Programm bietet als nächstes ein ganz besonderes Highlight: Wir laden Euch ein zu einer Yoga-Stunde unter der Eiche! Unsere liebe Kati\, selbst Anwohnerin und Yoga-Lehrerin\, nimmt Euch mit auf eine ganzheitliche Reise zu innerer Ruhe und Entspannung am schönsten Platz der Stadt. Freut Euch auf ein ganz besonderes Event\, das jeder auch ohne Vorkenntnisse mitmachen kann! Bitte bringt Euch dafür nach Möglichkeit eine Yoga- oder Iso-Matte mit. Selbstverständlich freuen wir uns\, wenn wir im Anschluss noch ein bißchen verweilen und unseren Platz mit Leben füllen … \nUnsere Reihe von kulturellen Impulsen wird Anfang September in einem Konzert von Lucas Wielpütz und seiner Band gipfeln – wir informieren Euch dazu noch rechtzeitig. Wenn Ihr selbst einen kulturellen Beitrag leisten wollt oder jemanden kennt\, der unser Programm bereichern könnte\, dann meldet Euch sehr gerne! \nteilen teilen teilen teilen merken teilen E-Mail drucken 
URL:https://fggw.de/event/platz-fuer-kultur-yoga-unter-der-eiche/
LOCATION:Platz an der Eiche\, An der Eiche\, Bergisch Gladbach\, NRW\, 51469\, Deutschland
CATEGORIES:Platz für Kultur
ATTACH;FMTTYPE=image/jpeg:https://fggw.de/wp-content/uploads/2025/06/Platz-fuer-Kultur.jpg
ORGANIZER;CN="Freundeskreis der Gartensiedlung Gronauer Wald":MAILTO:info@fggw.de
END:VEVENT
END:VCALENDAR