BEGIN:VCALENDAR
VERSION:2.0
PRODID:-//Freundeskreis der Gartensiedlung Gronauer Wald - ECPv6.15.20//NONSGML v1.0//EN
CALSCALE:GREGORIAN
METHOD:PUBLISH
X-WR-CALNAME:Freundeskreis der Gartensiedlung Gronauer Wald
X-ORIGINAL-URL:https://fggw.de
X-WR-CALDESC:Veranstaltungen für Freundeskreis der Gartensiedlung Gronauer Wald
REFRESH-INTERVAL;VALUE=DURATION:PT1H
X-Robots-Tag:noindex
X-PUBLISHED-TTL:PT1H
BEGIN:VTIMEZONE
TZID:Europe/Berlin
BEGIN:DAYLIGHT
TZOFFSETFROM:+0100
TZOFFSETTO:+0200
TZNAME:CEST
DTSTART:20240331T010000
END:DAYLIGHT
BEGIN:STANDARD
TZOFFSETFROM:+0200
TZOFFSETTO:+0100
TZNAME:CET
DTSTART:20241027T010000
END:STANDARD
BEGIN:DAYLIGHT
TZOFFSETFROM:+0100
TZOFFSETTO:+0200
TZNAME:CEST
DTSTART:20250330T010000
END:DAYLIGHT
BEGIN:STANDARD
TZOFFSETFROM:+0200
TZOFFSETTO:+0100
TZNAME:CET
DTSTART:20251026T010000
END:STANDARD
BEGIN:DAYLIGHT
TZOFFSETFROM:+0100
TZOFFSETTO:+0200
TZNAME:CEST
DTSTART:20260329T010000
END:DAYLIGHT
BEGIN:STANDARD
TZOFFSETFROM:+0200
TZOFFSETTO:+0100
TZNAME:CET
DTSTART:20261025T010000
END:STANDARD
END:VTIMEZONE
BEGIN:VEVENT
DTSTART;TZID=Europe/Berlin:20250906T190000
DTEND;TZID=Europe/Berlin:20250906T200000
DTSTAMP:20260423T210728
CREATED:20250805T144508Z
LAST-MODIFIED:20250829T121751Z
UID:4153-1757185200-1757188800@fggw.de
SUMMARY:Platz für Kultur: Konzert mit Lucas Wielpütz
DESCRIPTION:Es ist Zeit\, unserem Quartier neues Leben einzuhauchen – nicht nur in gärtnerischer\, sondern auch in kultureller Hinsicht! Mit der Initiative „Platz für Kultur – im Gronauer Wald“ lädt der Freundeskreis herzlich dazu ein\, den Platz an der Eiche gemeinsam zu einem lebendigen Treffpunkt für Kunst\, Musik und Begegnung zu machen. \nIm Rahmen unserer Aktion „Platz für Kultur – im Gronauer Wald“  haben wir bereits ein Konzert von Mystery Train\, eine Lesung für Kinder und eine Yoga-Stunde organisiert. Unser kleines Programm mit Kulturmomenten für diesen Sommer endet am 6. September mit einem ganz besonderen Highlight: Lucas Wielpütz wird mit seiner Band für uns Musik machen! Lucas Wielpütz ist Singer-Songwriter aus Bergisch Gladbach. In seinen deutschsprachigen Songs geht es um das\, was uns verbindet – um Nähe\, Zweifel\, Freundschaft und den Mut\, man selbst zu sein. Seine Musik erzählt vom Leben\, wie es ist: ehrlich\, nahbar und voller Gefühl. Ob solo oder mit Band – Lucas schafft Momente\, in denen man sich wiederfindet. Nicht nur als Ich\, sondern als Wir. Aktuell arbeitet er gemeinsam mit Ralf Freddi Hahn an seinem ersten Album.\n \nSeid dabei\, wenn unser Platz an der Eiche zum kulturellen Herzstück des Gronauer Waldes wird. Bringt Eure Familie\, Freund:innen und Nachbar:innen mit – und lasst uns gemeinsam Kultur erleben und gestalten! Damit wir danach unkompliziert noch einen schönen Sommerabend verleben können\, bitten wir Euch darum\, Euer Lieblingsgetränk und ein Glas einfach selbst mitzubringen! Einige Tische und Bänke organisieren wir. \nteilen teilen teilen teilen merken teilen E-Mail drucken 
URL:https://fggw.de/event/platz-fuer-kultur-konzert-mit-lucas-wielpuetz/
LOCATION:Platz an der Eiche\, An der Eiche\, Bergisch Gladbach\, NRW\, 51469\, Deutschland
CATEGORIES:Platz für Kultur
ATTACH;FMTTYPE=image/jpeg:https://fggw.de/wp-content/uploads/2025/06/Platz-fuer-Kultur.jpg
ORGANIZER;CN="Freundeskreis der Gartensiedlung Gronauer Wald":MAILTO:info@fggw.de
END:VEVENT
BEGIN:VEVENT
DTSTART;TZID=Europe/Berlin:20250914T100000
DTEND;TZID=Europe/Berlin:20250914T180000
DTSTAMP:20260423T210728
CREATED:20250814T124848Z
LAST-MODIFIED:20250814T124848Z
UID:4193-1757844000-1757872800@fggw.de
SUMMARY:Der Freundeskreis beim Stadtfest und Tag des offenen Denkmals
DESCRIPTION:In diesem Jahr wird der Freundeskreis der Gartensiedlung Gronauer Wald wieder einen Stand beim Stadtfest aufbauen. Am Sonntag\, 14. September\, sind wir vor der Villa Zanders und feiern nicht nur unsere Stadt\, sondern auch die schönste Ecke von Bergisch Gladbach! Viele historische Fotos werden einen spannenden Einblick in die Entstehung und Geschichte unserer Gartenstadt bieten\, außerdem werden viele fleissige Helfer vom Freundeskreis alle Interessierten auch umfassend informieren. \nZusätzlich bieten wir an diesem Tag auch 2 kostenlose Führungen durch die Gartensiedlung an – die genauen Termine werden wir noch hier bekannt geben. Diese sind unser Beitrag zum „Tag des offenen Denkmals“\, der bundesweit an diesem Tag stattfindet. \nWir freuen uns auf Euren Besuch beim Stadtfest und beim Stand des Freundeskreises! \nteilen teilen teilen teilen merken teilen E-Mail drucken 
URL:https://fggw.de/event/der-freundeskreis-beim-stadtfest-und-tag-des-offenen-denkmals/
LOCATION:Bergisch Gladbach\, Bergisch Gladbach\, 51469\, Deutschland
CATEGORIES:Veranstaltung
ATTACH;FMTTYPE=image/jpeg:https://fggw.de/wp-content/uploads/2025/08/DSD_KV_2025_FREIANZEIGE_QUER.jpg
END:VEVENT
BEGIN:VEVENT
DTSTART;TZID=Europe/Berlin:20250914T120000
DTEND;TZID=Europe/Berlin:20250914T133000
DTSTAMP:20260423T210728
CREATED:20250814T134646Z
LAST-MODIFIED:20250814T135022Z
UID:4197-1757851200-1757856600@fggw.de
SUMMARY:Führung durch die Gartensiedlung Gronauer Wald am 14.9. um 12:00
DESCRIPTION:Anlässlich des deutschlandweiten „Tag des offenen Denkmals“ bieten wir am 14. September – parallel zu unserem Info-Stand beim Stadtfest – zwei kostenlose und barrierefreie Führungen durch die älteste Gartensiedlung Deutschlands an. Gegründet von Anna und Richard Zanders 1898 als Arbeitersiedlung für die Papierfabrik Zanders\, orientierte sich die Planung von Beginn an an der Idee der „Gartenstadt“ – kleine\, meist freistehende Häuser mit eigenem Nutzgarten in einer wie organisch gewachsenen Umgebung. Der Leiter des Freundeskreises\, Frank Grobolschek\, wird Sie mit unendlich viel Fachwissen\, Anekdoten und spannenden Details durch die noch immer wunderschöne Siedlung führen – tauchen Sie ein in ein spannendes Kapitel der Stadtgeschichte! \nteilen teilen teilen teilen merken teilen E-Mail drucken 
URL:https://fggw.de/event/fuehrung-durch-die-gartensiedlung-gronauer-wald/
LOCATION:Platz an der Eiche\, An der Eiche\, Bergisch Gladbach\, NRW\, 51469\, Deutschland
CATEGORIES:Führung
ATTACH;FMTTYPE=image/jpeg:https://fggw.de/wp-content/uploads/2025/08/20240824_Sommerfest_0225.jpg
ORGANIZER;CN="Freundeskreis der Gartensiedlung Gronauer Wald":MAILTO:info@fggw.de
END:VEVENT
BEGIN:VEVENT
DTSTART;TZID=Europe/Berlin:20250914T140000
DTEND;TZID=Europe/Berlin:20250914T153000
DTSTAMP:20260423T210728
CREATED:20250814T134909Z
LAST-MODIFIED:20250814T135041Z
UID:4201-1757858400-1757863800@fggw.de
SUMMARY:Führung durch die Gartensiedlung Gronauer Wald am 14.9. um 14:00
DESCRIPTION:Anlässlich des deutschlandweiten „Tag des offenen Denkmals“ bieten wir am 14. September – parallel zu unserem Info-Stand beim Stadtfest – zwei kostenlose und barrierefreie Führungen durch die älteste Gartensiedlung Deutschlands an. Gegründet von Anna und Richard Zanders 1898 als Arbeitersiedlung für die Papierfabrik Zanders\, orientierte sich die Planung von Beginn an an der Idee der „Gartenstadt“ – kleine\, meist freistehende Häuser mit eigenem Nutzgarten in einer wie organisch gewachsenen Umgebung. Der Leiter des Freundeskreises\, Frank Grobolschek\, wird Sie mit unendlich viel Fachwissen\, Anekdoten und spannenden Details durch die noch immer wunderschöne Siedlung führen – tauchen Sie ein in ein spannendes Kapitel der Stadtgeschichte! \n\nteilen teilen teilen teilen merken teilen E-Mail drucken 
URL:https://fggw.de/event/fuehrung-durch-die-gartensiedlung-gronauer-wald-am-14-9-um-1400/
LOCATION:Platz an der Eiche\, An der Eiche\, Bergisch Gladbach\, NRW\, 51469\, Deutschland
CATEGORIES:Führung
ATTACH;FMTTYPE=image/jpeg:https://fggw.de/wp-content/uploads/2025/08/20240824_Sommerfest_0225.jpg
ORGANIZER;CN="Freundeskreis der Gartensiedlung Gronauer Wald":MAILTO:info@fggw.de
END:VEVENT
BEGIN:VEVENT
DTSTART;TZID=Europe/Berlin:20250918T193000
DTEND;TZID=Europe/Berlin:20250918T213000
DTSTAMP:20260423T210728
CREATED:20250912T115558Z
LAST-MODIFIED:20251008T141800Z
UID:4240-1758223800-1758231000@fggw.de
SUMMARY:Treffen des Freundeskreises am 18.09.2025
DESCRIPTION:Unser nächstes Treffen steht vor der Tür. Es wird sicherlich wieder jede Menge Infos und Gelegenheit zum Austausch bieten. Wir laden deshalb alle Nachbarn\, Freunde\, Anwohner und Gartensiedler ein\, regelmäßig an unseren Treffen teilzunehmen! So können Sie in ungezwungener Runde ihre Nachbarn kennenlernen\, Klatsch und Tratsch austauschen\, alte Bekannte wiedersehen\, leckeres Essen genießen und sich über Aktuelles aus unserem Viertel informieren. Wir freuen uns immer\, wenn sich Neue in die Runde wagen – Ihr seid jederzeit herzlich willkommen! \nHinweis: Für das Titelbild haben wir mal wieder mit KI gespielt 😉 \nteilen teilen teilen teilen merken teilen E-Mail drucken 
URL:https://fggw.de/event/treffen-des-freundeskreises-am-18-09-2025/
LOCATION:Restaurant Guru\, Gronauer Waldweg 2\, Bergisch Gladbach\, NRW\, 51465\, Deutschland
CATEGORIES:Treffen des Freundeskreises
ATTACH;FMTTYPE=image/png:https://fggw.de/wp-content/uploads/2025/09/eine-gruppe-frohlicher-junger-und-alterer-menschen-die-sich-unter-1.png
ORGANIZER;CN="Freundeskreis der Gartensiedlung Gronauer Wald":MAILTO:info@fggw.de
END:VEVENT
BEGIN:VEVENT
DTSTART;TZID=Europe/Berlin:20250920T110000
DTEND;TZID=Europe/Berlin:20250920T150000
DTSTAMP:20260423T210728
CREATED:20250817T102924Z
LAST-MODIFIED:20250817T232231Z
UID:4171-1758366000-1758380400@fggw.de
SUMMARY:Pflanzentauschbörse
DESCRIPTION:Im Herbst werden die Stauden geteilt\, es werden vor dem Winter nochmal Bäume geschnitten und Samen gesammelt. \nWer Samen\, Stecklinge oder Pflanzen hat\, die nicht selbst gebraucht werden kann diese gerne tauschen. Dafür veranstalten wir am Platz an der Eiche eine kleine Pflanzentauschbörse. Solltet Ihr etwas zum abgeben haben und nichts suchen oder umgekehrt oder wollt vorwitzen seid Ihr ebenso willkommen. \nDie Pflanzentauschbörse findet am Samstag\, den 20.09 ab 11:00Uhr am Platz an der Eiche statt. \nteilen teilen teilen teilen merken teilen E-Mail drucken 
URL:https://fggw.de/event/pflanzentauschboerse/
LOCATION:Platz an der Eiche\, An der Eiche\, Bergisch Gladbach\, NRW\, 51469\, Deutschland
CATEGORIES:Veranstaltung
ATTACH;FMTTYPE=image/jpeg:https://fggw.de/wp-content/uploads/2024/08/IMG_7082-1.jpeg
END:VEVENT
END:VCALENDAR