BEGIN:VCALENDAR
VERSION:2.0
PRODID:-//Freundeskreis der Gartensiedlung Gronauer Wald - ECPv6.15.20//NONSGML v1.0//EN
CALSCALE:GREGORIAN
METHOD:PUBLISH
X-WR-CALNAME:Freundeskreis der Gartensiedlung Gronauer Wald
X-ORIGINAL-URL:https://fggw.de
X-WR-CALDESC:Veranstaltungen für Freundeskreis der Gartensiedlung Gronauer Wald
REFRESH-INTERVAL;VALUE=DURATION:PT1H
X-Robots-Tag:noindex
X-PUBLISHED-TTL:PT1H
BEGIN:VTIMEZONE
TZID:Europe/Berlin
BEGIN:DAYLIGHT
TZOFFSETFROM:+0100
TZOFFSETTO:+0200
TZNAME:CEST
DTSTART:20240331T010000
END:DAYLIGHT
BEGIN:STANDARD
TZOFFSETFROM:+0200
TZOFFSETTO:+0100
TZNAME:CET
DTSTART:20241027T010000
END:STANDARD
BEGIN:DAYLIGHT
TZOFFSETFROM:+0100
TZOFFSETTO:+0200
TZNAME:CEST
DTSTART:20250330T010000
END:DAYLIGHT
BEGIN:STANDARD
TZOFFSETFROM:+0200
TZOFFSETTO:+0100
TZNAME:CET
DTSTART:20251026T010000
END:STANDARD
BEGIN:DAYLIGHT
TZOFFSETFROM:+0100
TZOFFSETTO:+0200
TZNAME:CEST
DTSTART:20260329T010000
END:DAYLIGHT
BEGIN:STANDARD
TZOFFSETFROM:+0200
TZOFFSETTO:+0100
TZNAME:CET
DTSTART:20261025T010000
END:STANDARD
END:VTIMEZONE
BEGIN:VEVENT
DTSTART;TZID=Europe/Berlin:20251030T193000
DTEND;TZID=Europe/Berlin:20251030T213000
DTSTAMP:20260423T194113
CREATED:20251023T141210Z
LAST-MODIFIED:20251008T141655Z
UID:4322-1761852600-1761859800@fggw.de
SUMMARY:Treffen des Freundeskreises am 30.10.2025
DESCRIPTION:Das nächste Treffen des Freundeskreises steht vor der Tür. Wie immer wird es jede Menge Infos und Gelegenheit zum Austausch bieten. Wir laden deshalb alle Nachbarn\, Freunde\, Anwohner und Gartensiedler ein\, regelmäßig an unseren Treffen teilzunehmen! So können Sie in ungezwungener Runde ihre Nachbarn kennenlernen\, Klatsch und Tratsch austauschen\, alte Bekannte wiedersehen\, leckeres Essen genießen und sich über Aktuelles aus unserem Viertel informieren. Wir freuen uns immer\, wenn sich Neue in die Runde wagen – Ihr seid jederzeit herzlich willkommen! \nHinweis: Für das Titelbild haben wir mal wieder mit KI gespielt 😉 \nteilen teilen teilen teilen merken teilen E-Mail drucken 
URL:https://fggw.de/event/treffen-des-freundeskreises-am-30-10-2025/
LOCATION:Restaurant Guru\, Gronauer Waldweg 2\, Bergisch Gladbach\, NRW\, 51465\, Deutschland
CATEGORIES:Treffen des Freundeskreises
ATTACH;FMTTYPE=image/png:https://fggw.de/wp-content/uploads/2025/09/eine-gruppe-frohlicher-junger-und-alterer-menschen-die-sich-unter-1.png
ORGANIZER;CN="Freundeskreis der Gartensiedlung Gronauer Wald":MAILTO:info@fggw.de
END:VEVENT
END:VCALENDAR