BEGIN:VCALENDAR
VERSION:2.0
PRODID:-//Freundeskreis der Gartensiedlung Gronauer Wald - ECPv6.15.20//NONSGML v1.0//EN
CALSCALE:GREGORIAN
METHOD:PUBLISH
X-WR-CALNAME:Freundeskreis der Gartensiedlung Gronauer Wald
X-ORIGINAL-URL:https://fggw.de
X-WR-CALDESC:Veranstaltungen für Freundeskreis der Gartensiedlung Gronauer Wald
REFRESH-INTERVAL;VALUE=DURATION:PT1H
X-Robots-Tag:noindex
X-PUBLISHED-TTL:PT1H
BEGIN:VTIMEZONE
TZID:Europe/Berlin
BEGIN:DAYLIGHT
TZOFFSETFROM:+0100
TZOFFSETTO:+0200
TZNAME:CEST
DTSTART:20250330T010000
END:DAYLIGHT
BEGIN:STANDARD
TZOFFSETFROM:+0200
TZOFFSETTO:+0100
TZNAME:CET
DTSTART:20251026T010000
END:STANDARD
BEGIN:DAYLIGHT
TZOFFSETFROM:+0100
TZOFFSETTO:+0200
TZNAME:CEST
DTSTART:20260329T010000
END:DAYLIGHT
BEGIN:STANDARD
TZOFFSETFROM:+0200
TZOFFSETTO:+0100
TZNAME:CET
DTSTART:20261025T010000
END:STANDARD
BEGIN:DAYLIGHT
TZOFFSETFROM:+0100
TZOFFSETTO:+0200
TZNAME:CEST
DTSTART:20270328T010000
END:DAYLIGHT
BEGIN:STANDARD
TZOFFSETFROM:+0200
TZOFFSETTO:+0100
TZNAME:CET
DTSTART:20271031T010000
END:STANDARD
END:VTIMEZONE
BEGIN:VEVENT
DTSTART;TZID=Europe/Berlin:20260305T193000
DTEND;TZID=Europe/Berlin:20260305T203000
DTSTAMP:20260423T151556
CREATED:20260220T111821Z
LAST-MODIFIED:20260220T111821Z
UID:4433-1772739000-1772742600@fggw.de
SUMMARY:2. Planungstreffen für das Sommerfest
DESCRIPTION:Für die weitere Organisation unseres Sommerfestes 2026 treffen wir uns wieder mit allen Tatkräftigen und Engagierten am 5. März 2026. \nDie Organisation unserer Feste ist eine Mischung aus vielen bereits erprobten Vorgängen wie z.B. dem Beantragen der amtlichen Genehmigungen. Zusätzlich haben wir bei unserem ersten Treffen eine Liste der Dinge\, die wir beim letzten Fest nicht so optimal fanden und besser machen wollen\, durchgesehen und die notwendigen Rückschlüsse gezogen. Dennoch sind die Aufgaben zahlreich und wir können jede Menge Hilfe gebrauchen! Auch wer sich nicht im voraus engagieren möchte oder kann\, ist als helfende Hand an den Tagen vor\, während und nach dem Fest herzlich willkommen – z.B. als Hilfe am Bierstand oder am Kuchenstand. \nMit allen\, die sich für das Gelingen unseres Sommerfests 2026 engagieren möchten\, treffen wir uns das nächste mal am 5.03. – wir freuen uns auf Euch! \nteilen teilen teilen teilen merken teilen E-Mail drucken 
URL:https://fggw.de/event/2-planungstreffen-fuer-das-sommerfest/
LOCATION:Restaurant Guru\, Gronauer Waldweg 2\, Bergisch Gladbach\, NRW\, 51465\, Deutschland
CATEGORIES:Sommerfest
ATTACH;FMTTYPE=image/jpeg:https://fggw.de/wp-content/uploads/2026/02/20240823_Sommerfest_0432.jpg
ORGANIZER;CN="Freundeskreis der Gartensiedlung Gronauer Wald":MAILTO:info@fggw.de
END:VEVENT
BEGIN:VEVENT
DTSTART;TZID=Europe/Berlin:20260319T193000
DTEND;TZID=Europe/Berlin:20260319T213000
DTSTAMP:20260423T151556
CREATED:20260309T102536Z
LAST-MODIFIED:20260315T170844Z
UID:4424-1773948600-1773955800@fggw.de
SUMMARY:Treffen des Freundeskreises am 19. März
DESCRIPTION:Das nächste Treffen des Freundeskreises steht vor der Tür. Wie immer tauschen wir uns über Neuigkeiten und wichtige Informationen genauso aus wie über den netten Klatsch & Tratsch. Wir laden deshalb alle Nachbarn\, Freunde\, Anwohner und Gartensiedler ein\, regelmäßig an unseren Treffen teilzunehmen! Hier könnt Ihr in ungezwungener Runde Eure Nachbarn kennenlernen\, Euch austauschen\, alte Bekannte wiedersehen\, leckeres Essen genießen und Euch über Aktuelles aus unserem Viertel informieren. Unsere Runde wächst immer weiter – und wir freuen uns sehr\, wenn wir neue Gesichter aus der Gartensiedlung bei unseren Treffen begrüßen können – Ihr seid jederzeit herzlich willkommen! \nHinweis: Für das Titelbild haben wir mal wieder mit KI gespielt  Keine Angst\, wir werden nicht draußen sitzen … \nteilen teilen teilen teilen merken teilen E-Mail drucken 
URL:https://fggw.de/event/treffen-des-freundeskreises-2/
LOCATION:Restaurant Guru\, Gronauer Waldweg 2\, Bergisch Gladbach\, NRW\, 51465\, Deutschland
CATEGORIES:Treffen des Freundeskreises
ATTACH;FMTTYPE=image/png:https://fggw.de/wp-content/uploads/2026/02/ChatGPT-Image-7.-Feb.-2026-11_37_00.png
ORGANIZER;CN="Freundeskreis der Gartensiedlung Gronauer Wald":MAILTO:info@fggw.de
END:VEVENT
END:VCALENDAR