BEGIN:VCALENDAR
VERSION:2.0
PRODID:-//Freundeskreis der Gartensiedlung Gronauer Wald - ECPv6.15.20//NONSGML v1.0//EN
CALSCALE:GREGORIAN
METHOD:PUBLISH
X-ORIGINAL-URL:https://fggw.de
X-WR-CALDESC:Veranstaltungen für Freundeskreis der Gartensiedlung Gronauer Wald
REFRESH-INTERVAL;VALUE=DURATION:PT1H
X-Robots-Tag:noindex
X-PUBLISHED-TTL:PT1H
BEGIN:VTIMEZONE
TZID:Europe/Berlin
BEGIN:DAYLIGHT
TZOFFSETFROM:+0100
TZOFFSETTO:+0200
TZNAME:CEST
DTSTART:20250330T010000
END:DAYLIGHT
BEGIN:STANDARD
TZOFFSETFROM:+0200
TZOFFSETTO:+0100
TZNAME:CET
DTSTART:20251026T010000
END:STANDARD
BEGIN:DAYLIGHT
TZOFFSETFROM:+0100
TZOFFSETTO:+0200
TZNAME:CEST
DTSTART:20260329T010000
END:DAYLIGHT
BEGIN:STANDARD
TZOFFSETFROM:+0200
TZOFFSETTO:+0100
TZNAME:CET
DTSTART:20261025T010000
END:STANDARD
BEGIN:DAYLIGHT
TZOFFSETFROM:+0100
TZOFFSETTO:+0200
TZNAME:CEST
DTSTART:20270328T010000
END:DAYLIGHT
BEGIN:STANDARD
TZOFFSETFROM:+0200
TZOFFSETTO:+0100
TZNAME:CET
DTSTART:20271031T010000
END:STANDARD
END:VTIMEZONE
BEGIN:VEVENT
DTSTART;VALUE=DATE:20260604
DTEND;VALUE=DATE:20260608
DTSTAMP:20260423T164816
CREATED:20251007T163101Z
LAST-MODIFIED:20251111T141508Z
UID:4316-1780531200-1780876799@fggw.de
SUMMARY:Netzwerk-Treffen der europäischen Gartenstädte in Budapest [aktualisiert]
DESCRIPTION:Liebe Freunde\, heute erreichte uns die Einladung zum kommenden Treffen des Netzwerks der europäischen Gartenstädte. Der Freundeskreis der Gartensiedlung Gronauer Wald ist seit vielen Jahren Mitglied in diesem paneuropäischen Netzwerk und hat im Sommer 2024 mit einigen Interessierten am ersten Treffen dieses Netzwerks in Freiburg teilgenommen. Bereits bei diesem Treffen hatte der Vertreter der ungarischen Gartensiedlung Wekerletelep in Budapest\, Herr Attila Nagy\, signalisiert\, dass das nächste Treffen in Budapest stattfinden solle. Seine Einladung liest sich wie folgt: \nSehr geehrte/r Ansprechpartner/in des Gartenstadt-Netzwerks\,\nals ungarisches Mitglied des Europäischen Gartenstadt-Netzwerks freuen wir uns\, Ihnen mitteilen zu können\, dass wir – basierend auf den Diskussionen und Zusagen der Veranstaltung in Freiburg im Juli 2024 – vom 4. bis 7. Juni 2026 das nächste Netzwerktreffen in Wekerletelep ausrichten werden. Es wird mit den Wochenendveranstaltungen der 35. Wekerle-Tage verbunden sein.\nWir stehen noch am Anfang der Organisation und bitten daher um Bestätigung der Eignung des Termins und Ihrer Teilnahmeabsicht. Das Thema der Veranstaltung wird anhand der Anzahl der Bewerber und ihrer Interessen zusammengestellt. Detaillierte Informationen hierzu erhalten Sie später.\nWir heißen die aktiven Mitglieder des Netzwerks und ihre Vertreter/innen herzlich zum kommenden Treffen willkommen\, selbstverständlich aber nicht nur die Teilnehmer/innen der letzten Veranstaltung. Die Teilnahme am Treffen ist kostenlos\, und wir bemühen uns\, den Teilnehmer/innen ermäßigte Unterkunftsmöglichkeiten anzubieten.\nDie Teilnahme an den Programmen der Wekerle-Tage ist ebenfalls kostenlos. Wir möchten Stadtführungen durch Budapest zu einem erschwinglichen Preis anbieten.\nDie offizielle Konferenzsprache ist Englisch. Bei Bedarf stellen wir Dolmetscher zur Verfügung.\nBitte teilen Sie uns bis spätestens 15. November 2025 mit\, ob der Termin für Sie passt\, ob Sie an der Konferenz teilnehmen möchten und wie viele Teilnehmer Sie voraussichtlich beabsichtigen. Eine vorläufige Teilnahmebenachrichtigung schließt einen späteren Widerruf oder eine Änderung nicht aus.\nWir sind zuversichtlich\, dass wir diese Konferenz gemeinsam zu einem Erfolg machen können! \nWie Ihr seht\, ist noch viel Zeit bis zum geplanten Treffen\, allerdings wünschen sich die Organisatoren eine baldige Zusage oder mindestens die Rückmeldung\, ob und mit wie vielen Teilnehmern zu rechnen sein wird. Wir bitten Euch deshalb\, Euer unverbindliches Interesse an einer Reise nach Budapest zu diesem Treffen mitzuteilen. Nutzt dafür gerne die Ticketfunktion unterhalb dieses Termins oder schreibt an info@fggw.de oder sprecht Frank Grobolschek direkt an. Ob und in welcher Art wir gemeinsam/selbst-organisiert dorthin fahren\, werden wir bei den kommenden Treffen des Freundeskreises noch besprechen. \nUPDATE \nDa am 30.05.2026 das UEFA Champions League Finale in Budapest stattfinden wird\, wurde das Netzwerktreffen um 1 Woche verschoben! Neuer Termin ist jetzt der 4. bis 7. Juni 2026. Es gibt bereits einen ersten\, vorläufigen Entwurf für das Programm: \n\n04.06.2026\, Donnerstag\n\nNachmittags: Begrüßung und Registrierung der Teilnehmenden\nGeführter Spaziergang in Wekerletelep\nKurze Vorstellung der teilnehmenden Gartenstädte\nGemeinsames Abendessen\n\n\n05.06.2026\, Freitag\n\nPlenumsvorträge am Vormittag – Gartenstädte und nachhaltige Entwicklung\, Schutz historischer Gebäude\, Erhaltung architektonischer Werte und praktische Erfahrungen\, die Gartenstadt als Siedlungsform der Zukunft\nGemeinsames Mittagessen\nVorträge am Nachmittag – in Zusammenarbeit mit den teilnehmenden Gartenstädten (zu später vereinbarten Themen)\nGemeinsames Abendessen\n\n\n06.06.2026\, Samstag\n\nVormittags Fahrt mit der Pferdekutsche in Wekerletelep\nTeilnahme an den 35. Wekerle-Tagen\nNachmittags Stadtrundfahrt durch Budapest mit Führung\n\n\n07.06. 2026\, Sonntag\n\nOptionales Programm: Teilnahme an den Veranstaltungen der Wekerle-Tage\n\n\n\nIn unmittelbarer Nähe zur dortigen Gartenstadt liegt das IBIS Hotel Budapest CitySouth. Dort können Zimmer zu folgenden Konditionen reserviert werden: Einzelzimmer €87/Zimmer/Nacht\, inkl. Frühstück. Doppelzimmer €97/Zimmer/Nacht\, inkl. Frühstück. Familienzimmer f. 4 Personen €122/Zimmer/Nacht\, inkl. Frühstück. Reservierungen werden unter dieser Adresse entgegen genommen: Jazmin.TOROK@accor.com. Bei der Buchung bitte den Code International Garden City Meeting 2026 angeben. \nteilen teilen teilen teilen merken teilen E-Mail drucken 
URL:https://fggw.de/event/netzwerk-treffen-der-europaeischen-gartenstaedte-in-budapest/
LOCATION:Wekerletelep\, Budapest\, Ungarn\, Budapest\, Hungary
CATEGORIES:Netzwerk-Treffen
ATTACH;FMTTYPE=image/jpeg:https://fggw.de/wp-content/uploads/2025/10/hungarian-parliament-building-7202373_1920-1.jpg
END:VEVENT
END:VCALENDAR