BEGIN:VCALENDAR
VERSION:2.0
PRODID:-//Freundeskreis der Gartensiedlung Gronauer Wald - ECPv6.15.20//NONSGML v1.0//EN
CALSCALE:GREGORIAN
METHOD:PUBLISH
X-ORIGINAL-URL:https://fggw.de
X-WR-CALDESC:Veranstaltungen für Freundeskreis der Gartensiedlung Gronauer Wald
REFRESH-INTERVAL;VALUE=DURATION:PT1H
X-Robots-Tag:noindex
X-PUBLISHED-TTL:PT1H
BEGIN:VTIMEZONE
TZID:Europe/Berlin
BEGIN:DAYLIGHT
TZOFFSETFROM:+0100
TZOFFSETTO:+0200
TZNAME:CEST
DTSTART:20250330T010000
END:DAYLIGHT
BEGIN:STANDARD
TZOFFSETFROM:+0200
TZOFFSETTO:+0100
TZNAME:CET
DTSTART:20251026T010000
END:STANDARD
BEGIN:DAYLIGHT
TZOFFSETFROM:+0100
TZOFFSETTO:+0200
TZNAME:CEST
DTSTART:20260329T010000
END:DAYLIGHT
BEGIN:STANDARD
TZOFFSETFROM:+0200
TZOFFSETTO:+0100
TZNAME:CET
DTSTART:20261025T010000
END:STANDARD
BEGIN:DAYLIGHT
TZOFFSETFROM:+0100
TZOFFSETTO:+0200
TZNAME:CEST
DTSTART:20270328T010000
END:DAYLIGHT
BEGIN:STANDARD
TZOFFSETFROM:+0200
TZOFFSETTO:+0100
TZNAME:CET
DTSTART:20271031T010000
END:STANDARD
END:VTIMEZONE
BEGIN:VEVENT
DTSTART;TZID=Europe/Berlin:20260704T150000
DTEND;TZID=Europe/Berlin:20260704T230000
DTSTAMP:20260423T181951
CREATED:20260308T143200Z
LAST-MODIFIED:20260308T143200Z
UID:4442-1783177200-1783206000@fggw.de
SUMMARY:Save the date: Sommerfest am Platz an der Eiche am 4. Juli 2026!
DESCRIPTION:Liebe Gartensiedler\, Nachbarn und Freunde – wir haben es versprochen und wir halten es: Alle 2 Jahre gibt es ein großes Sommerfest am Platz an der Eiche. In diesem Jahr ist es wieder soweit und wir sind mit einigen freiwilligen Helfern schon dabei\, diese Party zu organisieren. Auch der ein oder andere Musik-Akt hat bereits zugesagt. Aber was wäre so ein Sommerfest ohne Euch\, ohne die vielen großen und kleinen\, jungen und älteren Gäste aus der Gartensiedlung Gronauer Wald? Damit Ihr möglichst alle Gelegenheit habt\, beim Sommerfest dabei zu sein\, haltet Euch bitte Samstag\, den 4.07.2026 frei! Wir freuen uns auf Euch und einen tollen gemeinsamen Tag! \nAn dieser Stelle vorab bereits unsere große Bitte: Wie immer bei den Sommerfesten möchten wir zur Finanzierung Kuchen verkaufen – und sind deshalb auf Eure Kuchenspenden angewiesen. Wenn Ihr uns mit einer Kuchenspende helfen wollt\, meldet Euch gerne bei Tanja unter kuchen@fggw.de. \nDer Kuchenstand muss natürlich auch besetzt werden – wie immer in mehreren Schichten\, damit es nicht zu anstrengend wird. Beim nächsten Treffen des Freundeskreises am 19.03.26 könnt Ihr Euch direkt in die Listen eintragen – oder vorab eine kurze Mail an info@fggw.de schicken! \nteilen teilen teilen teilen merken teilen E-Mail drucken 
URL:https://fggw.de/event/save-the-date-sommerfest-am-platz-an-der-eiche-am-4-juli-2026/
LOCATION:Platz an der Eiche\, An der Eiche\, Bergisch Gladbach\, NRW\, 51469\, Deutschland
CATEGORIES:Sommerfest
ATTACH;FMTTYPE=image/jpeg:https://fggw.de/wp-content/uploads/2026/03/20240824_Sommerfest_0427-Verbessert-RR.jpg
ORGANIZER;CN="Freundeskreis der Gartensiedlung Gronauer Wald":MAILTO:info@fggw.de
END:VEVENT
END:VCALENDAR