BEGIN:VCALENDAR
VERSION:2.0
PRODID:-//Freundeskreis der Gartensiedlung Gronauer Wald - ECPv6.15.20//NONSGML v1.0//EN
CALSCALE:GREGORIAN
METHOD:PUBLISH
X-WR-CALNAME:Freundeskreis der Gartensiedlung Gronauer Wald
X-ORIGINAL-URL:https://fggw.de
X-WR-CALDESC:Veranstaltungen für Freundeskreis der Gartensiedlung Gronauer Wald
REFRESH-INTERVAL;VALUE=DURATION:PT1H
X-Robots-Tag:noindex
X-PUBLISHED-TTL:PT1H
BEGIN:VTIMEZONE
TZID:Europe/Berlin
BEGIN:DAYLIGHT
TZOFFSETFROM:+0100
TZOFFSETTO:+0200
TZNAME:CEST
DTSTART:20250330T010000
END:DAYLIGHT
BEGIN:STANDARD
TZOFFSETFROM:+0200
TZOFFSETTO:+0100
TZNAME:CET
DTSTART:20251026T010000
END:STANDARD
BEGIN:DAYLIGHT
TZOFFSETFROM:+0100
TZOFFSETTO:+0200
TZNAME:CEST
DTSTART:20260329T010000
END:DAYLIGHT
BEGIN:STANDARD
TZOFFSETFROM:+0200
TZOFFSETTO:+0100
TZNAME:CET
DTSTART:20261025T010000
END:STANDARD
BEGIN:DAYLIGHT
TZOFFSETFROM:+0100
TZOFFSETTO:+0200
TZNAME:CEST
DTSTART:20270328T010000
END:DAYLIGHT
BEGIN:STANDARD
TZOFFSETFROM:+0200
TZOFFSETTO:+0100
TZNAME:CET
DTSTART:20271031T010000
END:STANDARD
END:VTIMEZONE
BEGIN:VEVENT
DTSTART;TZID=Europe/Berlin:20260219T193000
DTEND;TZID=Europe/Berlin:20260219T210000
DTSTAMP:20260423T155416
CREATED:20260206T171223Z
LAST-MODIFIED:20260206T171223Z
UID:4407-1771529400-1771534800@fggw.de
SUMMARY:1. Planungstreffen für das Sommerfest
DESCRIPTION:Liebe Freunde\, wir möchten der Tradition treu bleiben und unser Sommerfest im 2-Jahres-Rhythmus stattfinden lassen – also soll es auch 2026 wieder ein Sommerfest am Platz an der Eiche geben! \nDie Organisation unserer Feste ist eine Mischung aus vielen bereits erprobten Vorgängen wie z.B. dem Beantragen der amtlichen Genehmigungen. Zusätzlich haben wir eine Liste der Dinge\, die wir beim letzten Fest nicht so optimal fanden und besser machen wollen – hier sind also kreative neue Ideen gefordert. Und schließlich gibt es immer großen Bedarf an helfenden Händen\, die an den Tagen vor und nach dem Fest mit anpacken. Kurz: Wir können jede Menge Hilfe gebrauchen! \nFür alle\, die sich für das Gelingen unseres Sommerfests 2026 engagieren möchten\, treffen wir uns erstmalig am 19. Februar – hier soll u.a. der Termin festgelegt werden und eine erste Aufgabenverteilung vorgenommen werden. Weitere Treffen werden sicher entlang des Wegs nötig sein. Wir freuen uns auf Euch! \nteilen teilen teilen teilen merken teilen E-Mail drucken 
URL:https://fggw.de/event/1-planungstreffen-fuer-das-sommerfest/
LOCATION:Restaurant Guru\, Gronauer Waldweg 2\, Bergisch Gladbach\, NRW\, 51465\, Deutschland
CATEGORIES:Sommerfest
ATTACH;FMTTYPE=image/jpeg:https://fggw.de/wp-content/uploads/2026/02/20240823_Sommerfest_0432.jpg
ORGANIZER;CN="Freundeskreis der Gartensiedlung Gronauer Wald":MAILTO:info@fggw.de
END:VEVENT
END:VCALENDAR